BEGIN:VCALENDAR
VERSION:2.0
PRODID:-//Terri Savelle Foy Ministries - ECPv6.15.20//NONSGML v1.0//EN
CALSCALE:GREGORIAN
METHOD:PUBLISH
X-ORIGINAL-URL:https://www.terri.com
X-WR-CALDESC:Events for Terri Savelle Foy Ministries
REFRESH-INTERVAL;VALUE=DURATION:PT1H
X-Robots-Tag:noindex
X-PUBLISHED-TTL:PT1H
BEGIN:VTIMEZONE
TZID:America/Chicago
BEGIN:DAYLIGHT
TZOFFSETFROM:-0600
TZOFFSETTO:-0500
TZNAME:CDT
DTSTART:20250309T080000
END:DAYLIGHT
BEGIN:STANDARD
TZOFFSETFROM:-0500
TZOFFSETTO:-0600
TZNAME:CST
DTSTART:20251102T070000
END:STANDARD
BEGIN:DAYLIGHT
TZOFFSETFROM:-0600
TZOFFSETTO:-0500
TZNAME:CDT
DTSTART:20260308T080000
END:DAYLIGHT
BEGIN:STANDARD
TZOFFSETFROM:-0500
TZOFFSETTO:-0600
TZNAME:CST
DTSTART:20261101T070000
END:STANDARD
BEGIN:DAYLIGHT
TZOFFSETFROM:-0600
TZOFFSETTO:-0500
TZNAME:CDT
DTSTART:20270314T080000
END:DAYLIGHT
BEGIN:STANDARD
TZOFFSETFROM:-0500
TZOFFSETTO:-0600
TZNAME:CST
DTSTART:20271107T070000
END:STANDARD
END:VTIMEZONE
BEGIN:VEVENT
DTSTART;TZID=America/Chicago:20260430T190000
DTEND;TZID=America/Chicago:20260430T200000
DTSTAMP:20260421T110848
CREATED:20260421T022709Z
LAST-MODIFIED:20260421T022820Z
UID:701490-1777575600-1777579200@www.terri.com
SUMMARY:Make Your Dreams Bigger Than Your Memories Webinar
DESCRIPTION:Your past isn’t what’s holding you back—it’s going back to it that keeps you stuck. Every time you revisit old pain\, doubt\, or failure\, you restart the cycle and limit what God wants to do in your future. But today\, that changes. “Forgetting what is behind and reaching forward…” (Philippians 3:13). It’s time to let go\, renew your mind\, and step into everything God has for you. Join Terri Savelle Foy for a powerful one-night LIVE online event\, Make Your Dreams Bigger Than Your Memories\, and discover how to break free from your past and move forward with clarity\, confidence\, and purpose.  Reserve your spot now! \nDate: April 30th\, 2026\nTime: 7:00 pm\nLocation: Virtual (A free Live event)
URL:https://www.terri.com/event/make-your-dreams-bigger-than-your-memories-webinar/
ATTACH;FMTTYPE=image/png:https://www.terri.com/wp-content/uploads/2026/04/1920-x-1080-MYDBTYM-event-scaled.png
END:VEVENT
BEGIN:VEVENT
DTSTART;VALUE=DATE:20260619
DTEND;VALUE=DATE:20260621
DTSTAMP:20260421T110848
CREATED:20251125T202536Z
LAST-MODIFIED:20260421T022036Z
UID:686213-1781827200-1781999999@www.terri.com
SUMMARY:London\, UK
DESCRIPTION:ICING Women’s Conference \nKensington Conference & Event Centre\nHornton Street\nLondon\, England GB  W8 7NX
URL:https://www.terri.com/event/london-uk/
ATTACH;FMTTYPE=image/png:https://www.terri.com/wp-content/uploads/2026/03/Icing-London-1920-x-1080-1.png
END:VEVENT
BEGIN:VEVENT
DTSTART;TZID=America/Chicago:20260628T093000
DTEND;TZID=America/Chicago:20260628T233000
DTSTAMP:20260421T110848
CREATED:20260320T164912Z
LAST-MODIFIED:20260320T164912Z
UID:697830-1782639000-1782689400@www.terri.com
SUMMARY:Nice\, France
DESCRIPTION:EK21 Church\n4 Avenue d’Estienne d’Orves\, 06000\, Nice\n 
URL:https://www.terri.com/event/nice-france/
END:VEVENT
BEGIN:VEVENT
DTSTART;VALUE=DATE:20260727
DTEND;VALUE=DATE:20260802
DTSTAMP:20260421T110848
CREATED:20260130T175821Z
LAST-MODIFIED:20260130T175821Z
UID:692221-1785110400-1785628799@www.terri.com
SUMMARY:Fort Worth\, TX
DESCRIPTION:Southwest Believer’s Convention \nFort Worth Convention Center\, Fort Worth\, TX
URL:https://www.terri.com/event/fort-worth-tx/
END:VEVENT
BEGIN:VEVENT
DTSTART;VALUE=DATE:20260808
DTEND;VALUE=DATE:20260810
DTSTAMP:20260421T110848
CREATED:20260130T180013Z
LAST-MODIFIED:20260130T180013Z
UID:692223-1786147200-1786319999@www.terri.com
SUMMARY:St. Peters\, MO
DESCRIPTION:Church on the Rock\n900 Birdie Hills Road\nSt Peters\, MO 63376
URL:https://www.terri.com/event/st-peters-mo-2/
END:VEVENT
BEGIN:VEVENT
DTSTART;VALUE=DATE:20260830
DTEND;VALUE=DATE:20260831
DTSTAMP:20260421T110848
CREATED:20260130T180356Z
LAST-MODIFIED:20260130T180356Z
UID:692228-1788048000-1788134399@www.terri.com
SUMMARY:Dallas\, TX
DESCRIPTION:Women’s Real Estate Investors Network\nSheraton Dallas\n400 Olive Street\nDallas\, TX
URL:https://www.terri.com/event/dallas-tx-5/
END:VEVENT
END:VCALENDAR